BEGIN:VCALENDAR
VERSION:2.0
PRODID:-//Mynämäki - ECPv6.15.20//NONSGML v1.0//EN
CALSCALE:GREGORIAN
METHOD:PUBLISH
X-WR-CALNAME:Mynämäki
X-ORIGINAL-URL:https://www.mynamaki.fi
X-WR-CALDESC:Tapahtumat Mynämäki
REFRESH-INTERVAL;VALUE=DURATION:PT1H
X-Robots-Tag:noindex
X-PUBLISHED-TTL:PT1H
BEGIN:VTIMEZONE
TZID:Europe/Helsinki
BEGIN:DAYLIGHT
TZOFFSETFROM:+0200
TZOFFSETTO:+0300
TZNAME:EEST
DTSTART:20230326T010000
END:DAYLIGHT
BEGIN:STANDARD
TZOFFSETFROM:+0300
TZOFFSETTO:+0200
TZNAME:EET
DTSTART:20231029T010000
END:STANDARD
BEGIN:DAYLIGHT
TZOFFSETFROM:+0200
TZOFFSETTO:+0300
TZNAME:EEST
DTSTART:20240331T010000
END:DAYLIGHT
BEGIN:STANDARD
TZOFFSETFROM:+0300
TZOFFSETTO:+0200
TZNAME:EET
DTSTART:20241027T010000
END:STANDARD
BEGIN:DAYLIGHT
TZOFFSETFROM:+0200
TZOFFSETTO:+0300
TZNAME:EEST
DTSTART:20250330T010000
END:DAYLIGHT
BEGIN:STANDARD
TZOFFSETFROM:+0300
TZOFFSETTO:+0200
TZNAME:EET
DTSTART:20251026T010000
END:STANDARD
END:VTIMEZONE
BEGIN:VEVENT
DTSTART;VALUE=DATE:20240211
DTEND;VALUE=DATE:20240212
DTSTAMP:20260422T190455
CREATED:20240123T101756Z
LAST-MODIFIED:20240123T125918Z
UID:10003354-1707609600-1707695999@www.mynamaki.fi
SUMMARY:Teatteriesitykset lapsille
DESCRIPTION:Mynämäen kirjastossa lasten teatteriesitykset.\nEsitysajat klo 11 ja klo 13. \nToivomuspuun klovnimaiset hahmot tarkkailevat maailman menoa tanssin ja leikillisyyden kautta. Esityksen tavoitteena on herättää innostaa katsojia konkreettisiin tekoihin ympäristön puolesta sekä luoda toivoa tulevaisuuteen. Esitys tarkastelee ristiriitaa ihmisten ajattelun ja toiminnan välillä huumoria unohtamatta. Esitykseen kuuluu lyhyt työpaja.\nEsitys on sanaton. \nTervetuloa!
URL:https://www.mynamaki.fi/tapahtuma/teatteriesitykset-lapsille/
LOCATION:Mynämäen pääkirjasto\, Keskuskatu 13\, Mynämäki\, 23100
ORGANIZER;CN="Myn%C3%A4m%C3%A4en kulttuuri- ja kirjastotoimi":MAILTO:viktoria.kulmala@mynamaki.fi
GEO:60.6768965;21.9939
X-APPLE-STRUCTURED-LOCATION;VALUE=URI;X-ADDRESS=Mynämäen pääkirjasto Keskuskatu 13 Mynämäki 23100;X-APPLE-RADIUS=500;X-TITLE=Keskuskatu 13:geo:21.9939,60.6768965
END:VEVENT
END:VCALENDAR