BEGIN:VCALENDAR
VERSION:2.0
PRODID:-//Mynämäki - ECPv6.15.20//NONSGML v1.0//EN
CALSCALE:GREGORIAN
METHOD:PUBLISH
X-ORIGINAL-URL:https://www.mynamaki.fi
X-WR-CALDESC:Tapahtumat Mynämäki
REFRESH-INTERVAL;VALUE=DURATION:PT1H
X-Robots-Tag:noindex
X-PUBLISHED-TTL:PT1H
BEGIN:VTIMEZONE
TZID:Europe/Helsinki
BEGIN:DAYLIGHT
TZOFFSETFROM:+0200
TZOFFSETTO:+0300
TZNAME:EEST
DTSTART:20220327T010000
END:DAYLIGHT
BEGIN:STANDARD
TZOFFSETFROM:+0300
TZOFFSETTO:+0200
TZNAME:EET
DTSTART:20221030T010000
END:STANDARD
BEGIN:DAYLIGHT
TZOFFSETFROM:+0200
TZOFFSETTO:+0300
TZNAME:EEST
DTSTART:20230326T010000
END:DAYLIGHT
BEGIN:STANDARD
TZOFFSETFROM:+0300
TZOFFSETTO:+0200
TZNAME:EET
DTSTART:20231029T010000
END:STANDARD
BEGIN:DAYLIGHT
TZOFFSETFROM:+0200
TZOFFSETTO:+0300
TZNAME:EEST
DTSTART:20240331T010000
END:DAYLIGHT
BEGIN:STANDARD
TZOFFSETFROM:+0300
TZOFFSETTO:+0200
TZNAME:EET
DTSTART:20241027T010000
END:STANDARD
END:VTIMEZONE
BEGIN:VEVENT
DTSTART;TZID=Europe/Helsinki:20231218T190000
DTEND;TZID=Europe/Helsinki:20231218T200000
DTSTAMP:20260419T013752
CREATED:20231102T100415Z
LAST-MODIFIED:20231102T100519Z
UID:10003277-1702926000-1702929600@www.mynamaki.fi
SUMMARY:Joulukonsertti
DESCRIPTION:Perinteisiä ja uudempia joululauluja.
URL:https://www.mynamaki.fi/tapahtuma/joulukonsertti/
LOCATION:Mynämäen kirkko\, Kirkkokatu 3\, Mynämäki
GEO:60.6809539;21.9886841
X-APPLE-STRUCTURED-LOCATION;VALUE=URI;X-ADDRESS=Mynämäen kirkko Kirkkokatu 3 Mynämäki;X-APPLE-RADIUS=500;X-TITLE=Kirkkokatu 3:geo:21.9886841,60.6809539
END:VEVENT
END:VCALENDAR