BEGIN:VCALENDAR
VERSION:2.0
PRODID:-//Mynämäki - ECPv6.15.20//NONSGML v1.0//EN
CALSCALE:GREGORIAN
METHOD:PUBLISH
X-WR-CALNAME:Mynämäki
X-ORIGINAL-URL:https://www.mynamaki.fi
X-WR-CALDESC:Tapahtumat Mynämäki
REFRESH-INTERVAL;VALUE=DURATION:PT1H
X-Robots-Tag:noindex
X-PUBLISHED-TTL:PT1H
BEGIN:VTIMEZONE
TZID:Europe/Helsinki
BEGIN:DAYLIGHT
TZOFFSETFROM:+0200
TZOFFSETTO:+0300
TZNAME:EEST
DTSTART:20250330T010000
END:DAYLIGHT
BEGIN:STANDARD
TZOFFSETFROM:+0300
TZOFFSETTO:+0200
TZNAME:EET
DTSTART:20251026T010000
END:STANDARD
BEGIN:DAYLIGHT
TZOFFSETFROM:+0200
TZOFFSETTO:+0300
TZNAME:EEST
DTSTART:20260329T010000
END:DAYLIGHT
BEGIN:STANDARD
TZOFFSETFROM:+0300
TZOFFSETTO:+0200
TZNAME:EET
DTSTART:20261025T010000
END:STANDARD
BEGIN:DAYLIGHT
TZOFFSETFROM:+0200
TZOFFSETTO:+0300
TZNAME:EEST
DTSTART:20270328T010000
END:DAYLIGHT
BEGIN:STANDARD
TZOFFSETFROM:+0300
TZOFFSETTO:+0200
TZNAME:EET
DTSTART:20271031T010000
END:STANDARD
END:VTIMEZONE
BEGIN:VEVENT
DTSTART;TZID=Europe/Helsinki:20260507T180000
DTEND;TZID=Europe/Helsinki:20260507T200000
DTSTAMP:20260422T202859
CREATED:20260422T113511Z
LAST-MODIFIED:20260422T113511Z
UID:10004276-1778176800-1778184000@www.mynamaki.fi
SUMMARY:Kotien sähkö- ja lämmitysenergianäkymät
DESCRIPTION:Ajankohtaista kotien sähkösopimuksista\, tehomaksuista ja kulutuksen ohjauksesta. \nTapahtumassa kuullaan myös korjausrakentamisneuvojan määräaikaisen työn alkamisesta ja tehtäväkentästä viiden kunnan alueella; Uusikaupunki\, Pyhäranta\, Laitila\, Vehmaa ja Mynämäki. \nVesivek/Mikko Pelkonen esittelee yrityksensä palveluja. Vesivek Oy on myös Omakotiliiton valtakunnallinen yhteistyökumppani. \nTapahtuman järjestää Mynämäen Seudun Pienkiinteistöyhdistys.
URL:https://www.mynamaki.fi/tapahtuma/kotien-sahko-ja-lammitysenergianakymat/
LOCATION:Mynämäen kunnantalon auditorio\, Vehmaantie 111\, Mynämäki\, 23100
ATTACH;FMTTYPE=image/png:https://www.mynamaki.fi/wp-content/uploads/2026/04/rakentaja.png
GEO:60.6800316;21.9690072
X-APPLE-STRUCTURED-LOCATION;VALUE=URI;X-ADDRESS=Mynämäen kunnantalon auditorio Vehmaantie 111 Mynämäki 23100;X-APPLE-RADIUS=500;X-TITLE=Vehmaantie 111:geo:21.9690072,60.6800316
END:VEVENT
END:VCALENDAR