BEGIN:VCALENDAR
VERSION:2.0
PRODID:-//Mynämäki - ECPv6.15.20//NONSGML v1.0//EN
CALSCALE:GREGORIAN
METHOD:PUBLISH
X-WR-CALNAME:Mynämäki
X-ORIGINAL-URL:https://www.mynamaki.fi
X-WR-CALDESC:Tapahtumat Mynämäki
REFRESH-INTERVAL;VALUE=DURATION:PT1H
X-Robots-Tag:noindex
X-PUBLISHED-TTL:PT1H
BEGIN:VTIMEZONE
TZID:Europe/Helsinki
BEGIN:DAYLIGHT
TZOFFSETFROM:+0200
TZOFFSETTO:+0300
TZNAME:EEST
DTSTART:20220327T010000
END:DAYLIGHT
BEGIN:STANDARD
TZOFFSETFROM:+0300
TZOFFSETTO:+0200
TZNAME:EET
DTSTART:20221030T010000
END:STANDARD
BEGIN:DAYLIGHT
TZOFFSETFROM:+0200
TZOFFSETTO:+0300
TZNAME:EEST
DTSTART:20230326T010000
END:DAYLIGHT
BEGIN:STANDARD
TZOFFSETFROM:+0300
TZOFFSETTO:+0200
TZNAME:EET
DTSTART:20231029T010000
END:STANDARD
BEGIN:DAYLIGHT
TZOFFSETFROM:+0200
TZOFFSETTO:+0300
TZNAME:EEST
DTSTART:20240331T010000
END:DAYLIGHT
BEGIN:STANDARD
TZOFFSETFROM:+0300
TZOFFSETTO:+0200
TZNAME:EET
DTSTART:20241027T010000
END:STANDARD
END:VTIMEZONE
BEGIN:VEVENT
DTSTART;TZID=Europe/Helsinki:20230916T100000
DTEND;TZID=Europe/Helsinki:20230916T170000
DTSTAMP:20260422T220715
CREATED:20230912T113739Z
LAST-MODIFIED:20230912T113739Z
UID:10003245-1694858400-1694883600@www.mynamaki.fi
SUMMARY:Rantaralli
DESCRIPTION:Rallikaravaani starttaa reitille Mynämäen seurakuntatalon pihalta lauantaiaamuna klo 10. Ensimmäinen kilpailijapari starttaa reitille klo 11.01 jatkuen tämän jälkeen minuutin välein. \nReitti koostuu tänäkin vuonna kuudesta enemmän tai vähemmän tutusta erikoiskokeesta ja pitää sisällään 65 erikoiskoekilometriä\, josta 2 km ajetaan asfaltilla. Yhteensä reitillä on pituutta 135 km ja ensimmäistä kilpailijaparia odotellaan saapuvaksi maaliin seurakuntatalon pihalle hieman ennen kolmea iltapäivällä. \nLisätietoja Naantalin Seudun Urheiluautoilijat ry:n verkkosivulla
URL:https://www.mynamaki.fi/tapahtuma/rantaralli/
END:VEVENT
END:VCALENDAR