BEGIN:VCALENDAR
VERSION:2.0
PRODID:-//Mynämäki - ECPv6.15.20//NONSGML v1.0//EN
CALSCALE:GREGORIAN
METHOD:PUBLISH
X-WR-CALNAME:Mynämäki
X-ORIGINAL-URL:https://www.mynamaki.fi
X-WR-CALDESC:Tapahtumat Mynämäki
REFRESH-INTERVAL;VALUE=DURATION:PT1H
X-Robots-Tag:noindex
X-PUBLISHED-TTL:PT1H
BEGIN:VTIMEZONE
TZID:Europe/Helsinki
BEGIN:DAYLIGHT
TZOFFSETFROM:+0200
TZOFFSETTO:+0300
TZNAME:EEST
DTSTART:20220327T010000
END:DAYLIGHT
BEGIN:STANDARD
TZOFFSETFROM:+0300
TZOFFSETTO:+0200
TZNAME:EET
DTSTART:20221030T010000
END:STANDARD
BEGIN:DAYLIGHT
TZOFFSETFROM:+0200
TZOFFSETTO:+0300
TZNAME:EEST
DTSTART:20230326T010000
END:DAYLIGHT
BEGIN:STANDARD
TZOFFSETFROM:+0300
TZOFFSETTO:+0200
TZNAME:EET
DTSTART:20231029T010000
END:STANDARD
BEGIN:DAYLIGHT
TZOFFSETFROM:+0200
TZOFFSETTO:+0300
TZNAME:EEST
DTSTART:20240331T010000
END:DAYLIGHT
BEGIN:STANDARD
TZOFFSETFROM:+0300
TZOFFSETTO:+0200
TZNAME:EET
DTSTART:20241027T010000
END:STANDARD
END:VTIMEZONE
BEGIN:VEVENT
DTSTART;VALUE=DATE:20231127
DTEND;VALUE=DATE:20231216
DTSTAMP:20260422T221345
CREATED:20231101T125742Z
LAST-MODIFIED:20231101T125825Z
UID:10003271-1701043200-1702684799@www.mynamaki.fi
SUMMARY:Joulukukkia ikäihmisille kampanja!
DESCRIPTION:Ilahduta alueemme ikäihmisiä joulumuistamisella.\nVoit lahjoittaa sopivaksi katsomasi summan paikalliseen kukkakauppaan kukkatervehdystä varten. Lahjoitetut kukat jaetaan alueemme ikäihmisille kotihoidon ja päivätoiminnan työntekijöiden toimesta. \nYhteyshenkilönä toimii Tarja Titta-Nieminen\npuh. 0444357878
URL:https://www.mynamaki.fi/tapahtuma/joulukukkia-ikaihmisille-kampanja/
LOCATION:Alueemme kukkakaupat
END:VEVENT
END:VCALENDAR