BEGIN:VCALENDAR
VERSION:2.0
PRODID:-//Mynämäki - ECPv6.15.20//NONSGML v1.0//EN
CALSCALE:GREGORIAN
METHOD:PUBLISH
X-ORIGINAL-URL:https://www.mynamaki.fi
X-WR-CALDESC:Tapahtumat Mynämäki
REFRESH-INTERVAL;VALUE=DURATION:PT1H
X-Robots-Tag:noindex
X-PUBLISHED-TTL:PT1H
BEGIN:VTIMEZONE
TZID:Europe/Helsinki
BEGIN:DAYLIGHT
TZOFFSETFROM:+0200
TZOFFSETTO:+0300
TZNAME:EEST
DTSTART:20220327T010000
END:DAYLIGHT
BEGIN:STANDARD
TZOFFSETFROM:+0300
TZOFFSETTO:+0200
TZNAME:EET
DTSTART:20221030T010000
END:STANDARD
BEGIN:DAYLIGHT
TZOFFSETFROM:+0200
TZOFFSETTO:+0300
TZNAME:EEST
DTSTART:20230326T010000
END:DAYLIGHT
BEGIN:STANDARD
TZOFFSETFROM:+0300
TZOFFSETTO:+0200
TZNAME:EET
DTSTART:20231029T010000
END:STANDARD
BEGIN:DAYLIGHT
TZOFFSETFROM:+0200
TZOFFSETTO:+0300
TZNAME:EEST
DTSTART:20240331T010000
END:DAYLIGHT
BEGIN:STANDARD
TZOFFSETFROM:+0300
TZOFFSETTO:+0200
TZNAME:EET
DTSTART:20241027T010000
END:STANDARD
END:VTIMEZONE
BEGIN:VEVENT
DTSTART;TZID=Europe/Helsinki:20230809T203000
DTEND;TZID=Europe/Helsinki:20230809T210000
DTSTAMP:20260418T183235
CREATED:20230807T083615Z
LAST-MODIFIED:20230807T083615Z
UID:10003231-1691613000-1691614800@www.mynamaki.fi
SUMMARY:”Minä olen ihme\, suuri ihme” -musiikkihartaus
DESCRIPTION:kanttori Anna Putkiranta ja Mynämäen seurakunnan vapaaehtoiset
URL:https://www.mynamaki.fi/tapahtuma/mina-olen-ihme-suuri-ihme-musiikkihartaus/
LOCATION:Karjalan kirkko\, Karjalankyläntie 58\, Mynämäki\, 23100
GEO:60.7858094;22.0752405
X-APPLE-STRUCTURED-LOCATION;VALUE=URI;X-ADDRESS=Karjalan kirkko Karjalankyläntie 58 Mynämäki 23100;X-APPLE-RADIUS=500;X-TITLE=Karjalankyläntie 58:geo:22.0752405,60.7858094
END:VEVENT
END:VCALENDAR