BEGIN:VCALENDAR
VERSION:2.0
PRODID:-//Mynämäki - ECPv6.15.20//NONSGML v1.0//EN
CALSCALE:GREGORIAN
METHOD:PUBLISH
X-ORIGINAL-URL:https://www.mynamaki.fi
X-WR-CALDESC:Tapahtumat Mynämäki
REFRESH-INTERVAL;VALUE=DURATION:PT1H
X-Robots-Tag:noindex
X-PUBLISHED-TTL:PT1H
BEGIN:VTIMEZONE
TZID:Europe/Helsinki
BEGIN:DAYLIGHT
TZOFFSETFROM:+0200
TZOFFSETTO:+0300
TZNAME:EEST
DTSTART:20230326T010000
END:DAYLIGHT
BEGIN:STANDARD
TZOFFSETFROM:+0300
TZOFFSETTO:+0200
TZNAME:EET
DTSTART:20231029T010000
END:STANDARD
BEGIN:DAYLIGHT
TZOFFSETFROM:+0200
TZOFFSETTO:+0300
TZNAME:EEST
DTSTART:20240331T010000
END:DAYLIGHT
BEGIN:STANDARD
TZOFFSETFROM:+0300
TZOFFSETTO:+0200
TZNAME:EET
DTSTART:20241027T010000
END:STANDARD
BEGIN:DAYLIGHT
TZOFFSETFROM:+0200
TZOFFSETTO:+0300
TZNAME:EEST
DTSTART:20250330T010000
END:DAYLIGHT
BEGIN:STANDARD
TZOFFSETFROM:+0300
TZOFFSETTO:+0200
TZNAME:EET
DTSTART:20251026T010000
END:STANDARD
END:VTIMEZONE
BEGIN:VEVENT
DTSTART;TZID=Europe/Helsinki:20240426T100000
DTEND;TZID=Europe/Helsinki:20240426T140000
DTSTAMP:20260422T220827
CREATED:20240410T115627Z
LAST-MODIFIED:20240425T064220Z
UID:10003450-1714125600-1714140000@www.mynamaki.fi
SUMMARY:Pyörät kuntoon -päivä 26.4.
DESCRIPTION:Liikuntatoimi järjestää yhteistyössä Kierrätyspyöräverstas Recykkelin kanssa Fillari kuntoon -päivän pe 26.4. Mynämäen Recykkelillä (Pyykkärintie 7). \nTule huoltamaan fillarisi kevään ja kesän kilometrejä varten! Kaikille avoimessa ja maksuttomassa tapahtumassa on opastusta polkupyörän keväthuoltoon. Kahvitarjoilu.
URL:https://www.mynamaki.fi/tapahtuma/fillari-kuntoon-paiva-26-4/
LOCATION:Kierrätyspyöräverstas Recykkeli\, Pyykkärintie 7\, Mynämäki\, 23100
ORGANIZER;CN="Myn%C3%A4m%C3%A4en kunta liikunta- ja nuorisotoimi":MAILTO:kunta@mynamaki.fi
END:VEVENT
END:VCALENDAR