BEGIN:VCALENDAR
VERSION:2.0
PRODID:-//Mynämäki - ECPv6.15.20//NONSGML v1.0//EN
CALSCALE:GREGORIAN
METHOD:PUBLISH
X-ORIGINAL-URL:https://www.mynamaki.fi
X-WR-CALDESC:Tapahtumat Mynämäki
REFRESH-INTERVAL;VALUE=DURATION:PT1H
X-Robots-Tag:noindex
X-PUBLISHED-TTL:PT1H
BEGIN:VTIMEZONE
TZID:Europe/Helsinki
BEGIN:DAYLIGHT
TZOFFSETFROM:+0200
TZOFFSETTO:+0300
TZNAME:EEST
DTSTART:20250330T010000
END:DAYLIGHT
BEGIN:STANDARD
TZOFFSETFROM:+0300
TZOFFSETTO:+0200
TZNAME:EET
DTSTART:20251026T010000
END:STANDARD
BEGIN:DAYLIGHT
TZOFFSETFROM:+0200
TZOFFSETTO:+0300
TZNAME:EEST
DTSTART:20260329T010000
END:DAYLIGHT
BEGIN:STANDARD
TZOFFSETFROM:+0300
TZOFFSETTO:+0200
TZNAME:EET
DTSTART:20261025T010000
END:STANDARD
BEGIN:DAYLIGHT
TZOFFSETFROM:+0200
TZOFFSETTO:+0300
TZNAME:EEST
DTSTART:20270328T010000
END:DAYLIGHT
BEGIN:STANDARD
TZOFFSETFROM:+0300
TZOFFSETTO:+0200
TZNAME:EET
DTSTART:20271031T010000
END:STANDARD
END:VTIMEZONE
BEGIN:VEVENT
DTSTART;TZID=Europe/Helsinki:20260509T100000
DTEND;TZID=Europe/Helsinki:20260509T140000
DTSTAMP:20260422T165021
CREATED:20260422T053224Z
LAST-MODIFIED:20260422T053224Z
UID:10004275-1778320800-1778335200@www.mynamaki.fi
SUMMARY:Päivä paloasemalla\, Mynämäen VPK
DESCRIPTION:Tule suorittamaan erilaisia turvallisuusrasteja\, sekä tutustumaan palokunnan kalustoon ja toimintaan. Tarjolla pientä purtavaa niin kauan kuin tavaraa riittää. \n 
URL:https://www.mynamaki.fi/tapahtuma/paiva-paloasemalla-mynamaen-vpk/
LOCATION:Mynämäen paloasema\, Keskuskatu 31\, Mynämäki\, 23100
ATTACH;FMTTYPE=image/jpeg:https://www.mynamaki.fi/wp-content/uploads/2026/04/paiva_paloasemalla_2026_fb_event_cover_fi-1.jpg
END:VEVENT
END:VCALENDAR