BEGIN:VCALENDAR
VERSION:2.0
PRODID:-//Mynämäki - ECPv6.15.20//NONSGML v1.0//EN
CALSCALE:GREGORIAN
METHOD:PUBLISH
X-WR-CALNAME:Mynämäki
X-ORIGINAL-URL:https://www.mynamaki.fi
X-WR-CALDESC:Tapahtumat Mynämäki
REFRESH-INTERVAL;VALUE=DURATION:PT1H
X-Robots-Tag:noindex
X-PUBLISHED-TTL:PT1H
BEGIN:VTIMEZONE
TZID:Europe/Helsinki
BEGIN:DAYLIGHT
TZOFFSETFROM:+0200
TZOFFSETTO:+0300
TZNAME:EEST
DTSTART:20220327T010000
END:DAYLIGHT
BEGIN:STANDARD
TZOFFSETFROM:+0300
TZOFFSETTO:+0200
TZNAME:EET
DTSTART:20221030T010000
END:STANDARD
BEGIN:DAYLIGHT
TZOFFSETFROM:+0200
TZOFFSETTO:+0300
TZNAME:EEST
DTSTART:20230326T010000
END:DAYLIGHT
BEGIN:STANDARD
TZOFFSETFROM:+0300
TZOFFSETTO:+0200
TZNAME:EET
DTSTART:20231029T010000
END:STANDARD
BEGIN:DAYLIGHT
TZOFFSETFROM:+0200
TZOFFSETTO:+0300
TZNAME:EEST
DTSTART:20240331T010000
END:DAYLIGHT
BEGIN:STANDARD
TZOFFSETFROM:+0300
TZOFFSETTO:+0200
TZNAME:EET
DTSTART:20241027T010000
END:STANDARD
BEGIN:DAYLIGHT
TZOFFSETFROM:+0200
TZOFFSETTO:+0300
TZNAME:EEST
DTSTART:20250330T010000
END:DAYLIGHT
BEGIN:STANDARD
TZOFFSETFROM:+0300
TZOFFSETTO:+0200
TZNAME:EET
DTSTART:20251026T010000
END:STANDARD
BEGIN:DAYLIGHT
TZOFFSETFROM:+0200
TZOFFSETTO:+0300
TZNAME:EEST
DTSTART:20260329T010000
END:DAYLIGHT
BEGIN:STANDARD
TZOFFSETFROM:+0300
TZOFFSETTO:+0200
TZNAME:EET
DTSTART:20261025T010000
END:STANDARD
BEGIN:DAYLIGHT
TZOFFSETFROM:+0200
TZOFFSETTO:+0300
TZNAME:EEST
DTSTART:20270328T010000
END:DAYLIGHT
BEGIN:STANDARD
TZOFFSETFROM:+0300
TZOFFSETTO:+0200
TZNAME:EET
DTSTART:20271031T010000
END:STANDARD
END:VTIMEZONE
BEGIN:VEVENT
DTSTART;TZID=Europe/Helsinki:20260402T110000
DTEND;TZID=Europe/Helsinki:20260402T190000
DTSTAMP:20260424T230224
CREATED:20260309T073720Z
LAST-MODIFIED:20260309T073720Z
UID:10004229-1775127600-1775156400@www.mynamaki.fi
SUMMARY:Street Food Siesta Mynämäki
DESCRIPTION:Street Food Siesta katuruoka tapahtuma! 🎊🎉\nMynämäki!😍🎊\nKoe kansainvälinen makumaailma sinun kaupungissasi.😍🎊🎉\nTapahtumapaikka Mynämäen tori.👈\nklo (to) 11-19👈\npv 2.4.2026👈\nTapahtuman myyjät!🥰😍\n(kysymällä löytyy myös suurimmalta osalta mm. munattomia\, laktoosittomia)\nMyös pienempiä annoksia! Ja annoksia lapsille! \nKorea Street Food\n=friteerattuja kanoja\, bbq lihoja ja lisukkeita korealaiseen tapaan.🇰🇷\n(myös gluteeniton)\n(löytyy useampi pieni annos+lapsille) \nArepera Bros =Venezuelalaista.🇻🇪🥙(myös gluteeniton vegaaninen) \nRolliz=Unkarilaiset rullapullat 🍦🇭🇺 \nDadas deli=pakora\,mango lassi\,samosa.🇮🇳🍲 (myös gluteenitonta\, vegaanista)\n(useita pieniä annoksia) \nBurgerhouse= kana\, ja bbq+premium pihvi burgerit.🇺🇲🍔🍟(myös gluteeniton)\n(lasten burger kysymällä) \nLatino amerikkalaiset churrot.🇵🇷🥨(myös vegaaninen)\n(kaksi eri annos kokoa pieni ja iso) \nHome of Gyros=Kreikkalaiset gyrokset.🇬🇷🌯\n(myös pienempi liha-annos saatavana) \nMySate =Indoneesialaisia vartaita.🇮🇩🍖(myös vegaaninen\,gluteeniton)\n(myös pienempi pelkkä varras annos)\n(kysymällä lasten annos) \nPepito=venezuelalaiset täytetyt leivät.🇻🇪🥖 \nVietnamilainen keittiö=bowlit\,bahn mit\,banh xeot.🇻🇳🥖🍲(myös gluteeniton\,vegaaninen) \nApsara=kambozalaista ruokaa.🇰🇭🍜(löytyy myös vege\,gluteeniton) kysymällä lasten annos. \nJ&V-creperia=vohveli/crepes kahvila+lapsille snäksejä.🇫🇮🇪🇺🇨🇵🥞🧇 \nMexiloco mexicolaista ruokaa\nNachoja\,tacoja\, quesadilla.🇲🇽🌮(myös gluteeniton\,kasvis) \nMuikkuja kala-annoksia.🇫🇮🐟 \nLittle Venice=Italian pasta-annokset ja herkulliset jälkiruuat.🍝🇮🇹 \nLisäksi\nTivoli Huvimylly tuo iloa ja huvituksia koko perheelle! \n🎠🎉Tivolista löytää:\n– Lasten laitteita kuten\, Pomppulinnat\,liukumäet\, possujuna🐖 ja monia muita erillaisia laitteita ja karuselleja.\n– Pelivaunut ja -autot\, onginta\, pallonheitto\, narunveto ja monia muita.🤡🎉🎡 \n🎡 Huom! Laitteet vaihtelevat tapahtumakohtaisesti. Säävaraus. \nHauskahahmo paikalla (to) klo 16:00-16:30 ja 17:00-17:30.😎 \nLisätiedot tapahtumasta ja myyjistä verkkosivuilla. https://streetfoodsiesta.fi/ 👈\nilmainen sisäänpääsy!👈\nTapahtumissa aina telttoja jos huono keli sattuu osumaan!!👍\npaljon istuma-paikkoja.👈\nTervetuloa makujen juhla odottaa sinua.🤗🎉🎊\nAnnoksia saa myös mukaan tai paikanpäällä nautittavaksi.👉Matka maailman ympäri.👉\n🇺🇲🇻🇪🇬🇷🇫🇮🇪🇺🇵🇷🇻🇳🇮🇩🇰🇭🇨🇵🇰🇷🇲🇽🇮🇳🇭🇺🇮🇹\n#streetfood #streetfoodsiesta #katuruoka #streetfoodfestival\n#streetfoodfestivals
URL:https://www.mynamaki.fi/tapahtuma/street-food-siesta-mynamaki-2/
LOCATION:Mynämäen tori
ATTACH;FMTTYPE=image/jpeg:https://www.mynamaki.fi/wp-content/uploads/2026/03/siesta26_some_mynamaki.jpg
END:VEVENT
BEGIN:VEVENT
DTSTART;TZID=Europe/Helsinki:20260314T110000
DTEND;TZID=Europe/Helsinki:20260314T130000
DTSTAMP:20260424T230224
CREATED:20260310T070309Z
LAST-MODIFIED:20260310T070309Z
UID:10004230-1773486000-1773493200@www.mynamaki.fi
SUMMARY:Hernekeittoa ja Vapepa-toiminnan esittelyä
DESCRIPTION:Raision seudun vapaaehtoinen pelastuspalvelu tarjoilee hernekeittoa ja esittelee toimintaansa Mynämäen torilla lauantaina 14.3. klo 11.00 alkaen. \nRuoka on valmistettu edellisenä päivänä Vapepa-hälytysryhmäläisten varautumiskoulutuksessa. \nTervetuloa maistelemaan ja tutustumaan!
URL:https://www.mynamaki.fi/tapahtuma/hernekeittoa-ja-vapepa-toiminnan-esittelya/
LOCATION:Mynämäen tori
ATTACH;FMTTYPE=image/jpeg:https://www.mynamaki.fi/wp-content/uploads/2026/03/Vapaaehtoinen-pelastuspalvelu.jpg
END:VEVENT
BEGIN:VEVENT
DTSTART;TZID=Europe/Helsinki:20251213T100000
DTEND;TZID=Europe/Helsinki:20251213T130000
DTSTAMP:20260424T230224
CREATED:20251013T071655Z
LAST-MODIFIED:20251014T052219Z
UID:10004084-1765620000-1765630800@www.mynamaki.fi
SUMMARY:Joulu saapuu Mynämäkeen: Joulutori
DESCRIPTION:Lucian päivän joulutorilla viihtyy niin lapsiperheet kuin muutkin joulutunnelmaa kaipaavat. Lavalla on mm. MLL Mynämäen yhdistyksen muskariesityksiä\, Tonttujumppaa ja Lucia-kulkue. Kulkue vierailee samana päivänä myös Mietoisten maamiesseurantalolla Hyvän mielen joulumarkkinoilla (avoinna klo 11–14). Joulutorilla on monenmoista tekemistä ja mm. Joulumuori on paikan päällä. Hänelle voit jättää joulukirjeen Korvatunturille vietäväksi. \nTapahtuman ohjelma täydentyy ja se päivitetään mm. tänne: https://www.facebook.com/mynamaenjoulu \nJoulutori järjestetään yhteistyössä lukuisten paikallisten toimijoiden kesken ja siinä on mukana Leader Ravakan Kansainvälinen joulu – Together We Create the Christmas Spirit -hanke.
URL:https://www.mynamaki.fi/tapahtuma/joulu-saapuu-mynamakeen-joulutori-2/
LOCATION:Mynämäen tori
ATTACH;FMTTYPE=image/jpeg:https://www.mynamaki.fi/wp-content/uploads/2025/10/joulusaapuu_logo-2.jpg
END:VEVENT
BEGIN:VEVENT
DTSTART;TZID=Europe/Helsinki:20251010T110000
DTEND;TZID=Europe/Helsinki:20251010T190000
DTSTAMP:20260424T230224
CREATED:20250925T115531Z
LAST-MODIFIED:20250925T115531Z
UID:10004066-1760094000-1760122800@www.mynamaki.fi
SUMMARY:Street Food Siesta Mynämäki
DESCRIPTION:Street Food Siesta ensimmäistä kertaa Mynämäessä! 🎊🎉\nKoe kansainvälinen makumaailma sinun kaupungissasi.😍🎊🎉\nTapahtumapaikka: Mynämäen tori. 👈\npv pe 10.10.2025👈\nklo 11–19👈 \nTapahtuman myyjät!🥰😍\n(kysymällä löytyy myös suurimmalta osalta mm. munattomia\, laktoosittomia) \nArepera Bros =Venezuelalaista.🇻🇪🥙(myös gluteeniton vegaaninen) \nBurgerhouse= kana\, ja bbq+premium pihvi burgerit.🇺🇲🍔🍟(myös gluteeniton) \nEspanjalaiset churrot.🇪🇦🥨(myös vegaaninen) \nHome of Gyros=Kreikkalaiset gyrokset.🇬🇷🌯 \nMySate =Indonesialaisia vartaita.🇮🇩🍖(myös vegaaninen\, gluteeniton) \nNordic Street Kitchen=muikkuja\, ranskalais-annoksia.🇬🇧🇺🇲🇫🇮🇪🇺🍟🐟(myös gluteeniton) \nRikiYaki =Japanilaiset\nTakoyakit\, ja uutuus tuotetta.🇯🇵🍘(myös gluteeniton\, vegaaninen) \nPepito=venezuelalaiset täytetyt leivät.🇻🇪🥖 \nVietnamilainen keittiö=bowlit\,bahn mit\,banh xeot.🇻🇳🥖🍲(myös gluteeniton\, vegaaninen) \nDadas deli=pakora\,mango lassi\,samosa.🇮🇳🍲 (myös Gluteenitonta\, vegaanista) \nApsara=Kambozalaista ruokaa.🇰🇭🍜(löytyy myös vege\, gluteeniton) \nJ&V-creperia=vohveli/crepes kahvila.🇨🇵🥞🧇 \nLisätiedot tapahtumasta ja myyjistä verkkosivuilla: https://streetfoodsiesta.fi/ 👈\nilmainen sisäänpääsy!👈\nTapahtumissa aina telttoja\, jos huono keli sattuu osumaan!!👍\npaljon istuma-paikkoja.👈\nTervetuloa makujenjuhla odottaa sinua.🤗🎉🎊\nAnnoksia saa myös mukaan tai paikanpäällä nautittavaksi.👉Matka maailman ympäri.👉\n🇺🇲🇻🇪🇬🇷🇬🇧🇫🇮🇪🇺🇪🇦🇻🇳🇯🇵🇮🇩🇮🇹🇮🇳🇰🇭🇲🇽\nHauskahahmo paikalla klo 16.00–16.30 ja 17.00–17.30.\n#streetfood #streetfoodsiesta #katuruoka #streetfoodfestival\n#streetfoodfestivals
URL:https://www.mynamaki.fi/tapahtuma/street-food-siesta-mynamaki/
LOCATION:Mynämäen tori
ATTACH;FMTTYPE=image/jpeg:https://www.mynamaki.fi/wp-content/uploads/2025/09/streetfood_siesta25_some_mynamaki.jpg
END:VEVENT
BEGIN:VEVENT
DTSTART;TZID=Europe/Helsinki:20250906T100000
DTEND;TZID=Europe/Helsinki:20250906T130000
DTSTAMP:20260424T230224
CREATED:20250901T061632Z
LAST-MODIFIED:20250901T061632Z
UID:10004031-1757152800-1757163600@www.mynamaki.fi
SUMMARY:Kasvimarkkinat
DESCRIPTION:Lounais-Rannikon Erikoiskasvit ry järjestää kasvimarkkinat Mynämäen torilla\, os. Virastotie 4\, lauantaina 6.9. kello 10 -13. Myynnissä jäsenten puutarhoista perennojen\, pensaiden\, puiden ja hyötykasvien taimia. \nTorilla on kahvikioski. Maksutapa on käteinen. \nTervetuloa!
URL:https://www.mynamaki.fi/tapahtuma/kasvimarkkinat/
LOCATION:Mynämäen tori
ATTACH;FMTTYPE=image/jpeg:https://www.mynamaki.fi/wp-content/uploads/2025/08/20250815_204459-scaled.jpg
END:VEVENT
BEGIN:VEVENT
DTSTART;TZID=Europe/Helsinki:20250517T100000
DTEND;TZID=Europe/Helsinki:20250517T130000
DTSTAMP:20260424T230224
CREATED:20250505T071434Z
LAST-MODIFIED:20250505T071434Z
UID:10003938-1747476000-1747486800@www.mynamaki.fi
SUMMARY:Apuommelkerhon hyväntekeväisyysarpajaiset
DESCRIPTION:Mukavat arpajaiset Taimitorin yhteydessä.\nPääpalkintona kerhon valmistama omavalintainen neulepalapeitto.
URL:https://www.mynamaki.fi/tapahtuma/apuommelkerhon-hyvantekevaisyysarpajaiset/
LOCATION:Mynämäen tori
END:VEVENT
BEGIN:VEVENT
DTSTART;TZID=Europe/Helsinki:20250517T100000
DTEND;TZID=Europe/Helsinki:20250517T130000
DTSTAMP:20260424T230224
CREATED:20250422T094407Z
LAST-MODIFIED:20250422T130459Z
UID:10003911-1747476000-1747486800@www.mynamaki.fi
SUMMARY:Taimimarkkinat
DESCRIPTION:Lounais-Rannikon Erikoiskasvit ry järjestää \nTAIMIMARKKINAT \nMynämäen torilla lauantaina 17.5.25 kello 10.00–13.00.\nMyytävänä perennojen\, hyötykasvien ja puiden taimia.\nMyynnissä myös kahvia.
URL:https://www.mynamaki.fi/tapahtuma/taimimarkkinat/
LOCATION:Mynämäen tori
END:VEVENT
BEGIN:VEVENT
DTSTART;TZID=Europe/Helsinki:20250424T090000
DTEND;TZID=Europe/Helsinki:20250424T160000
DTSTAMP:20260424T230224
CREATED:20250317T121045Z
LAST-MODIFIED:20250317T121045Z
UID:10003893-1745485200-1745510400@www.mynamaki.fi
SUMMARY:Suurtoripäivä Mynämäen torilla
DESCRIPTION:Suurtoripäivä on isompi toripäivä kuin useimmilla paikkakunnilla toripäivät normaalisti\, mutta pienemmät kuin markkinat. Siksipä me ollaankin koottu tämä meidän porukka erilaisten tuotteiden myyjistä\, että saadaan tarjottua teille mahdollisimman laaja ja monipuolinen kattaus. \nLisätietoja Suurtoripäivistä ja mukana olevista yrityksistä löydät Facebook-sivultamme www.facebook.com/suurtoripaivat
URL:https://www.mynamaki.fi/tapahtuma/suurtoripaiva-mynamaen-torilla/
LOCATION:Mynämäen tori
ATTACH;FMTTYPE=image/png:https://www.mynamaki.fi/wp-content/uploads/2025/03/Visit-kuva-25-2025.png
END:VEVENT
BEGIN:VEVENT
DTSTART;TZID=Europe/Helsinki:20241217T170000
DTEND;TZID=Europe/Helsinki:20241217T200000
DTSTAMP:20260424T230224
CREATED:20241211T093315Z
LAST-MODIFIED:20241211T093315Z
UID:10003756-1734454800-1734465600@www.mynamaki.fi
SUMMARY:Joulun pop up -tapahtuma Mynämäen torilla
DESCRIPTION:Kaikille avoin Joulun pop up -tapahtuma sekä pop up -nuokkari Mynämäen torilla tiistaina 17.12.2024 klo 17-20. \nLuvassa muun muassa hyvän mielen jouluaskartelupaja sekä tonttujumppaa. Tervetuloa myös vapaa-aikatoimen yhteistyökumppanit ja ystävät nauttimaan kanssamme kupponen kuumaa. \nTapahtumassa glögi- ja piparitarjoilu. \nTapahtuman järjestää nuorisotoimi\, yhteistyössä liikunta- ja kulttuuritoimen kanssa.
URL:https://www.mynamaki.fi/tapahtuma/joulun-pop-up-tapahtuma-mynamaen-torilla/
LOCATION:Mynämäen tori
END:VEVENT
BEGIN:VEVENT
DTSTART;TZID=Europe/Helsinki:20240610T160000
DTEND;TZID=Europe/Helsinki:20240610T190000
DTSTAMP:20260424T230224
CREATED:20240415T080214Z
LAST-MODIFIED:20240415T080214Z
UID:10003466-1718035200-1718046000@www.mynamaki.fi
SUMMARY:Pop Up -nuokkarit kesäkuussa
DESCRIPTION:• Tori (Virastotie 4)\, ma 10.6. klo 16–19 (pihapelejä ja mehubaari) \nTuu mukaan! Ei tarvitse ilmoittautua! Lisätietoa: Katja/nuorisotoimi\, p. 044 974 2918
URL:https://www.mynamaki.fi/tapahtuma/pop-up-nuokkarit-kesakuussa/
LOCATION:Mynämäen tori
ATTACH;FMTTYPE=image/jpeg:https://www.mynamaki.fi/wp-content/uploads/2024/04/Pop-Up-nuokkarit-2024.jpg
END:VEVENT
BEGIN:VEVENT
DTSTART;TZID=Europe/Helsinki:20240424T090000
DTEND;TZID=Europe/Helsinki:20240424T160000
DTSTAMP:20260424T230224
CREATED:20240326T083114Z
LAST-MODIFIED:20240326T083114Z
UID:10003381-1713949200-1713974400@www.mynamaki.fi
SUMMARY:Suurtoripäivä Mynämäellä
DESCRIPTION:Suurtoripäivä tuo noin 20 kauppiasta Mynämäen torille! \nSuomen Tapahtumatrio oy:n Suurtoripäivä on isompi toripäivä kuin useimmilla paikkakunnilla toripäivät normaalisti\, mutta pienemmät kuin markkinat. Siksipä me ollaankin koottu tämä meidän oma kauppiasporukka erilaisten tuotteiden myyjistä\, että saadaan tarjottua teille mahdollisimman laaja ja monipuolinen kattaus. \nTervetuloa nauttimaan mukavasta toritunnelmasta!
URL:https://www.mynamaki.fi/tapahtuma/suurtoripaiva-mynamaella/
LOCATION:Mynämäen tori
ATTACH;FMTTYPE=image/png:https://www.mynamaki.fi/wp-content/uploads/2024/03/Visit-kuva-20-2024-png.png
END:VEVENT
BEGIN:VEVENT
DTSTART;TZID=Europe/Helsinki:20231216T100000
DTEND;TZID=Europe/Helsinki:20231216T140000
DTSTAMP:20260424T230224
CREATED:20231101T124955Z
LAST-MODIFIED:20231101T124955Z
UID:10003268-1702720800-1702735200@www.mynamaki.fi
SUMMARY:Joulutori
DESCRIPTION:Torimökeissä yhdistykset ja yksityiset yrittäjät myyvät leivonnaisia\, käsitöitä\, taidetta\, virvokkeita ja syötävää.\nTorille tulee myös myyntikojuja ja myymäläautoja sekä jouluisen musiikin esityksiä.\nPerinteinen Juoluseimi-interiööri.
URL:https://www.mynamaki.fi/tapahtuma/joulutori-2/
LOCATION:Mynämäen tori
END:VEVENT
BEGIN:VEVENT
DTSTART;TZID=Europe/Helsinki:20231209T110000
DTEND;TZID=Europe/Helsinki:20231209T112000
DTSTAMP:20260424T230224
CREATED:20231106T084656Z
LAST-MODIFIED:20231106T085619Z
UID:10003279-1702119600-1702120800@www.mynamaki.fi
SUMMARY:Wirmon Puhallin Kisällien joulusoitto
DESCRIPTION:Tuttuja joululauluja.
URL:https://www.mynamaki.fi/tapahtuma/wirmon-puhallin-kisallien-joulusoitto/
LOCATION:Mynämäen tori
END:VEVENT
BEGIN:VEVENT
DTSTART;TZID=Europe/Helsinki:20231209T100000
DTEND;TZID=Europe/Helsinki:20231209T140000
DTSTAMP:20260424T230224
CREATED:20231101T125323Z
LAST-MODIFIED:20231120T134004Z
UID:10003270-1702116000-1702130400@www.mynamaki.fi
SUMMARY:Joulutori
DESCRIPTION:Torimökeissä yhdistykset ja yksityiset yrittäjät myyvät leivonnaisia\, käsitöitä\, taidetta\, virvokkeita ja syötävää.\nPerinteinen Juoluseimi-interiööri. Torilla esiintyvät Wirmon Puhallin Kisällit ja Mynämäen kirkkokuoro.
URL:https://www.mynamaki.fi/tapahtuma/joulutori-4/
LOCATION:Mynämäen tori
END:VEVENT
BEGIN:VEVENT
DTSTART;TZID=Europe/Helsinki:20231202T100000
DTEND;TZID=Europe/Helsinki:20231202T140000
DTSTAMP:20260424T230224
CREATED:20231101T125133Z
LAST-MODIFIED:20231120T132700Z
UID:10003269-1701511200-1701525600@www.mynamaki.fi
SUMMARY:Joulutori
DESCRIPTION:Torimökeissä yhdistykset ja yksityiset yrittäjät myyvät leivonnaisia\, käsitöitä\, taidetta\, virvokkeita ja syötävää.\nTorille tulee myös myyntikojuja ja myymäläautoja sekä jouluisen musiikin esityksiä.\nPerinteinen Juoluseimi-interiööri. Mynämäen Mieslaulajat – kuoro esiintyy.
URL:https://www.mynamaki.fi/tapahtuma/joulutori-3/
LOCATION:Mynämäen tori
END:VEVENT
BEGIN:VEVENT
DTSTART;TZID=Europe/Helsinki:20231125T100000
DTEND;TZID=Europe/Helsinki:20231125T140000
DTSTAMP:20260424T230224
CREATED:20231101T123653Z
LAST-MODIFIED:20231120T132616Z
UID:10003264-1700906400-1700920800@www.mynamaki.fi
SUMMARY:Joulutori
DESCRIPTION:Kunnanjohtaja Carita Maisila avaa joulutorikauden. Nousteprassi esiintyy (säävaraus). Joulukaraoke jatkuu jouluisten sävelmien merkeissä. Torimökeissä yhdistykset ja yksityiset yrittäjät myyvät leivonnaisia\, käsitöitä\, taidetta\, virvokkeita ja syötävää. Torille tulee myös myyntikojuja ja myymäläautoja. Perinteinen Jouluseimi-interiööri. \n 
URL:https://www.mynamaki.fi/tapahtuma/joulutori/
LOCATION:Mynämäen tori
END:VEVENT
END:VCALENDAR