BEGIN:VCALENDAR
VERSION:2.0
PRODID:-//Mynämäki - ECPv6.15.20//NONSGML v1.0//EN
CALSCALE:GREGORIAN
METHOD:PUBLISH
X-WR-CALNAME:Mynämäki
X-ORIGINAL-URL:https://www.mynamaki.fi
X-WR-CALDESC:Tapahtumat Mynämäki
REFRESH-INTERVAL;VALUE=DURATION:PT1H
X-Robots-Tag:noindex
X-PUBLISHED-TTL:PT1H
BEGIN:VTIMEZONE
TZID:Europe/Helsinki
BEGIN:DAYLIGHT
TZOFFSETFROM:+0200
TZOFFSETTO:+0300
TZNAME:EEST
DTSTART:20250330T010000
END:DAYLIGHT
BEGIN:STANDARD
TZOFFSETFROM:+0300
TZOFFSETTO:+0200
TZNAME:EET
DTSTART:20251026T010000
END:STANDARD
BEGIN:DAYLIGHT
TZOFFSETFROM:+0200
TZOFFSETTO:+0300
TZNAME:EEST
DTSTART:20260329T010000
END:DAYLIGHT
BEGIN:STANDARD
TZOFFSETFROM:+0300
TZOFFSETTO:+0200
TZNAME:EET
DTSTART:20261025T010000
END:STANDARD
BEGIN:DAYLIGHT
TZOFFSETFROM:+0200
TZOFFSETTO:+0300
TZNAME:EEST
DTSTART:20270328T010000
END:DAYLIGHT
BEGIN:STANDARD
TZOFFSETFROM:+0300
TZOFFSETTO:+0200
TZNAME:EET
DTSTART:20271031T010000
END:STANDARD
END:VTIMEZONE
BEGIN:VEVENT
DTSTART;TZID=Europe/Helsinki:20260425T090000
DTEND;TZID=Europe/Helsinki:20260425T150000
DTSTAMP:20260423T035402
CREATED:20260401T061652Z
LAST-MODIFIED:20260401T061652Z
UID:10004247-1777107600-1777129200@www.mynamaki.fi
SUMMARY:Suurtoripäivä Mynämäen torilla
DESCRIPTION:Tori täyttyy kauppiaista\, kun Suomen Tapahtumatrio Oy:n Suurtoripäivä saapuu jälleen paikkakunnalle. Suurtoripäivä on jo useilta vuosilta tuttu\, mukava toritapahtuma\, jossa asiakkaita palvelee noin 25 torikauppiasta. Suurtoripäivä on nimensä mukaisesti isompi kuin monilla paikkakunnilla toripäivät normaalisti\, mutta pienemmät kuin markkinat. Siksipä ollaankin koottu tämä meidän oma kauppiasporukka erilaisten tuotteiden myyjistä\, että saadaan tarjottua teille mahdollisimman monipuolinen kattaus.
URL:https://www.mynamaki.fi/tapahtuma/suurtoripaiva-mynamaen-torilla-2/
LOCATION:Mynämäen tori
ATTACH;FMTTYPE=image/png:https://www.mynamaki.fi/wp-content/uploads/2026/03/Visit-kuva-2026.png
END:VEVENT
END:VCALENDAR