BEGIN:VCALENDAR
VERSION:2.0
PRODID:-//Mynämäki - ECPv6.15.20//NONSGML v1.0//EN
CALSCALE:GREGORIAN
METHOD:PUBLISH
X-WR-CALNAME:Mynämäki
X-ORIGINAL-URL:https://www.mynamaki.fi
X-WR-CALDESC:Tapahtumat Mynämäki
REFRESH-INTERVAL;VALUE=DURATION:PT1H
X-Robots-Tag:noindex
X-PUBLISHED-TTL:PT1H
BEGIN:VTIMEZONE
TZID:Europe/Helsinki
BEGIN:DAYLIGHT
TZOFFSETFROM:+0200
TZOFFSETTO:+0300
TZNAME:EEST
DTSTART:20220327T010000
END:DAYLIGHT
BEGIN:STANDARD
TZOFFSETFROM:+0300
TZOFFSETTO:+0200
TZNAME:EET
DTSTART:20221030T010000
END:STANDARD
BEGIN:DAYLIGHT
TZOFFSETFROM:+0200
TZOFFSETTO:+0300
TZNAME:EEST
DTSTART:20230326T010000
END:DAYLIGHT
BEGIN:STANDARD
TZOFFSETFROM:+0300
TZOFFSETTO:+0200
TZNAME:EET
DTSTART:20231029T010000
END:STANDARD
BEGIN:DAYLIGHT
TZOFFSETFROM:+0200
TZOFFSETTO:+0300
TZNAME:EEST
DTSTART:20240331T010000
END:DAYLIGHT
BEGIN:STANDARD
TZOFFSETFROM:+0300
TZOFFSETTO:+0200
TZNAME:EET
DTSTART:20241027T010000
END:STANDARD
BEGIN:DAYLIGHT
TZOFFSETFROM:+0200
TZOFFSETTO:+0300
TZNAME:EEST
DTSTART:20250330T010000
END:DAYLIGHT
BEGIN:STANDARD
TZOFFSETFROM:+0300
TZOFFSETTO:+0200
TZNAME:EET
DTSTART:20251026T010000
END:STANDARD
BEGIN:DAYLIGHT
TZOFFSETFROM:+0200
TZOFFSETTO:+0300
TZNAME:EEST
DTSTART:20260329T010000
END:DAYLIGHT
BEGIN:STANDARD
TZOFFSETFROM:+0300
TZOFFSETTO:+0200
TZNAME:EET
DTSTART:20261025T010000
END:STANDARD
END:VTIMEZONE
BEGIN:VEVENT
DTSTART;TZID=Europe/Helsinki:20250831T110000
DTEND;TZID=Europe/Helsinki:20250831T140000
DTSTAMP:20260422T184523
CREATED:20250825T060200Z
LAST-MODIFIED:20250825T060200Z
UID:10004026-1756638000-1756648800@www.mynamaki.fi
SUMMARY:Kahvilapäivä Savikulmalla
DESCRIPTION:Tervetuloa puutarhakahvilaamme Varsinais-Suomen museopäivänä su 31.8.3025 klo 11–14\, os. Suorsalantie 40!\nSamalla tapaatte vuoden 2024 Mynämäki-mitalin saajat Tainan\, Antin ja Touko-koiran.
URL:https://www.mynamaki.fi/tapahtuma/kahvilapaiva-savikulmalla/
LOCATION:Savikulma\, Suorsalantie 40\, Mynämäki\, 23100
ATTACH;FMTTYPE=image/jpeg:https://www.mynamaki.fi/wp-content/uploads/2025/08/IMG_0730-scaled.jpeg
GEO:60.6906517;21.833774
X-APPLE-STRUCTURED-LOCATION;VALUE=URI;X-ADDRESS=Savikulma Suorsalantie 40 Mynämäki 23100;X-APPLE-RADIUS=500;X-TITLE=Suorsalantie 40:geo:21.833774,60.6906517
END:VEVENT
BEGIN:VEVENT
DTSTART;TZID=Europe/Helsinki:20240616T120000
DTEND;TZID=Europe/Helsinki:20240616T170000
DTSTAMP:20260422T184523
CREATED:20240508T061237Z
LAST-MODIFIED:20240613T130403Z
UID:10003490-1718539200-1718557200@www.mynamaki.fi
SUMMARY:Avoimet puutarhat Savikulman puutarhakahvilassa
DESCRIPTION:Tervetuloa tutustumaan puutarhaamme ja viettämään kesäinen kahvihetki puutarhakahvilassamme klo 12–17! Myös Korvensuun konepajamuseo on auki klo 13-16.
URL:https://www.mynamaki.fi/tapahtuma/avoimet-puutarhat-savikulmalla-ja-puutarhakahvila/
LOCATION:Savikulma\, Suorsalantie 40\, Mynämäki\, 23100
GEO:60.6906517;21.833774
X-APPLE-STRUCTURED-LOCATION;VALUE=URI;X-ADDRESS=Savikulma Suorsalantie 40 Mynämäki 23100;X-APPLE-RADIUS=500;X-TITLE=Suorsalantie 40:geo:21.833774,60.6906517
END:VEVENT
BEGIN:VEVENT
DTSTART;TZID=Europe/Helsinki:20240518T120000
DTEND;TZID=Europe/Helsinki:20240518T160000
DTSTAMP:20260422T184523
CREATED:20240508T061105Z
LAST-MODIFIED:20240508T061105Z
UID:10003489-1716033600-1716048000@www.mynamaki.fi
SUMMARY:Keväinen kahvihetki Savikulmalla
DESCRIPTION:Tervetuloa toivottamaan kesä tervetulleeksi puutarhakahvilaamme!\nKahvia ja leivonnaisia kera leivosen laulun. Osoitteessa Suorsalantie 40.
URL:https://www.mynamaki.fi/tapahtuma/kevainen-kahvihetki-savikulmalla/
LOCATION:Savikulma\, Suorsalantie 40\, Mynämäki\, 23100
ATTACH;FMTTYPE=image/jpeg:https://www.mynamaki.fi/wp-content/uploads/2024/05/IMG_8602-scaled.jpeg
GEO:60.6906517;21.833774
X-APPLE-STRUCTURED-LOCATION;VALUE=URI;X-ADDRESS=Savikulma Suorsalantie 40 Mynämäki 23100;X-APPLE-RADIUS=500;X-TITLE=Suorsalantie 40:geo:21.833774,60.6906517
END:VEVENT
BEGIN:VEVENT
DTSTART;TZID=Europe/Helsinki:20230709T120000
DTEND;TZID=Europe/Helsinki:20230709T170000
DTSTAMP:20260422T184523
CREATED:20230605T074230Z
LAST-MODIFIED:20230606T062630Z
UID:10003207-1688904000-1688922000@www.mynamaki.fi
SUMMARY:Avoimet puutarhat- ja kahvilapäivä Savikulmalla
DESCRIPTION:Tervetuloa tutustumaan puutarhaamme Korvensuun kosken partaalle su 9.6.2023 klo 12–17! \nKahvila on avoinna samaan aikaan.
URL:https://www.mynamaki.fi/tapahtuma/avoimet-puutarhat-ja-kahvilapaiva-savikulmalla/
LOCATION:Savikulma\, Suorsalantie 40\, Mynämäki\, 23100
ATTACH;FMTTYPE=image/jpeg:https://www.mynamaki.fi/wp-content/uploads/2023/06/EF49DFC5-FA6C-4136-9C13-F0090718FA3A-e1686032766264.jpeg
GEO:60.6906517;21.833774
X-APPLE-STRUCTURED-LOCATION;VALUE=URI;X-ADDRESS=Savikulma Suorsalantie 40 Mynämäki 23100;X-APPLE-RADIUS=500;X-TITLE=Suorsalantie 40:geo:21.833774,60.6906517
END:VEVENT
END:VCALENDAR