BEGIN:VCALENDAR
VERSION:2.0
PRODID:-//Mynämäki - ECPv6.15.20//NONSGML v1.0//EN
CALSCALE:GREGORIAN
METHOD:PUBLISH
X-WR-CALNAME:Mynämäki
X-ORIGINAL-URL:https://www.mynamaki.fi
X-WR-CALDESC:Tapahtumat Mynämäki
REFRESH-INTERVAL;VALUE=DURATION:PT1H
X-Robots-Tag:noindex
X-PUBLISHED-TTL:PT1H
BEGIN:VTIMEZONE
TZID:Europe/Helsinki
BEGIN:DAYLIGHT
TZOFFSETFROM:+0200
TZOFFSETTO:+0300
TZNAME:EEST
DTSTART:20230326T010000
END:DAYLIGHT
BEGIN:STANDARD
TZOFFSETFROM:+0300
TZOFFSETTO:+0200
TZNAME:EET
DTSTART:20231029T010000
END:STANDARD
BEGIN:DAYLIGHT
TZOFFSETFROM:+0200
TZOFFSETTO:+0300
TZNAME:EEST
DTSTART:20240331T010000
END:DAYLIGHT
BEGIN:STANDARD
TZOFFSETFROM:+0300
TZOFFSETTO:+0200
TZNAME:EET
DTSTART:20241027T010000
END:STANDARD
BEGIN:DAYLIGHT
TZOFFSETFROM:+0200
TZOFFSETTO:+0300
TZNAME:EEST
DTSTART:20250330T010000
END:DAYLIGHT
BEGIN:STANDARD
TZOFFSETFROM:+0300
TZOFFSETTO:+0200
TZNAME:EET
DTSTART:20251026T010000
END:STANDARD
END:VTIMEZONE
BEGIN:VEVENT
DTSTART;TZID=Europe/Helsinki:20241101T180000
DTEND;TZID=Europe/Helsinki:20241101T203000
DTSTAMP:20260422T173856
CREATED:20241017T053257Z
LAST-MODIFIED:20241017T053257Z
UID:10003717-1730484000-1730493000@www.mynamaki.fi
SUMMARY:Tuunaamon Halloween - semipelottava lasten ilta
DESCRIPTION:Perjantaina 1.11. Tuunaamo verhoutuu hämähäkin seitteihin\, ja kaikenkarvaiset otukset hiipivät esiin koloistaan. Tuunaamon kummitukset heräävät henkiin ja kalisuttelevat kahleitaan! Tule mukaan jos uskallat…. \nIllan aikana voi tehdä itselleen Halloween-rannekorun\, ja lähtiessä jaetaan palkkioksi rohkeudesta kaikille vieraille mukaan pieni yllätyspussi!\nTarjolla popcornia ja mehua. Paras Halloween-asu palkitaan! Ohjelmassa myös discoilua sekä leikkejä & kilpailuja. Lippuja rajoitettu määrä\, ja niitä myydään ovelta vain\, mikäli ennakkomarkkinoinnista jää yli lippuja. Varaa paikkasi www.tilatuunaamo.fi \nHuom! tilassa on kummitushahmoja\, jotka ääntelevät ja vilkuttelevat valoja (esim. silmät). Nämä voivat pelottaa perheen pienimpiä (ja vähän isompiakin) ja juhlat onkin suunnattu alakouluikäisille.
URL:https://www.mynamaki.fi/tapahtuma/tuunaamon-halloween-semipelottava-lasten-ilta/
LOCATION:Tuunaamo\, Kirkkotie 119\, Mietoinen\, 23120\, Finland
ATTACH;FMTTYPE=image/jpeg:https://www.mynamaki.fi/wp-content/uploads/2024/10/halloween.jpg
END:VEVENT
END:VCALENDAR