BEGIN:VCALENDAR
VERSION:2.0
PRODID:-//Mynämäki - ECPv6.15.20//NONSGML v1.0//EN
CALSCALE:GREGORIAN
METHOD:PUBLISH
X-WR-CALNAME:Mynämäki
X-ORIGINAL-URL:https://www.mynamaki.fi
X-WR-CALDESC:Tapahtumat Mynämäki
REFRESH-INTERVAL;VALUE=DURATION:PT1H
X-Robots-Tag:noindex
X-PUBLISHED-TTL:PT1H
BEGIN:VTIMEZONE
TZID:Europe/Helsinki
BEGIN:DAYLIGHT
TZOFFSETFROM:+0200
TZOFFSETTO:+0300
TZNAME:EEST
DTSTART:20250330T010000
END:DAYLIGHT
BEGIN:STANDARD
TZOFFSETFROM:+0300
TZOFFSETTO:+0200
TZNAME:EET
DTSTART:20251026T010000
END:STANDARD
BEGIN:DAYLIGHT
TZOFFSETFROM:+0200
TZOFFSETTO:+0300
TZNAME:EEST
DTSTART:20260329T010000
END:DAYLIGHT
BEGIN:STANDARD
TZOFFSETFROM:+0300
TZOFFSETTO:+0200
TZNAME:EET
DTSTART:20261025T010000
END:STANDARD
BEGIN:DAYLIGHT
TZOFFSETFROM:+0200
TZOFFSETTO:+0300
TZNAME:EEST
DTSTART:20270328T010000
END:DAYLIGHT
BEGIN:STANDARD
TZOFFSETFROM:+0300
TZOFFSETTO:+0200
TZNAME:EET
DTSTART:20271031T010000
END:STANDARD
END:VTIMEZONE
BEGIN:VEVENT
DTSTART;TZID=Europe/Helsinki:20260914T120000
DTEND;TZID=Europe/Helsinki:20260930T190000
DTSTAMP:20260423T051828
CREATED:20260127T061621Z
LAST-MODIFIED:20260127T061621Z
UID:10004192-1789387200-1790794800@www.mynamaki.fi
SUMMARY:Taidenäyttely
DESCRIPTION:Raija Leino-Pietilän taidenäyttely: Hetkestä kiinni\, esillä Mynämäen pääkirjastossa syyskuun ajan. \nNäyttely on avoinna kirjaston aukioloaikoina.
URL:https://www.mynamaki.fi/tapahtuma/taidenayttely-15/
LOCATION:Mynämäen pääkirjasto
ATTACH;FMTTYPE=image/jpeg:https://www.mynamaki.fi/wp-content/uploads/2026/01/Taistelevat-kotkat-2-scaled-e1769494541365.jpg
ORGANIZER;CN="Myn%C3%A4m%C3%A4en kulttuuri- ja kirjastotoimi":MAILTO:viktoria.kulmala@mynamaki.fi
END:VEVENT
BEGIN:VEVENT
DTSTART;VALUE=DATE:20261020
DTEND;VALUE=DATE:20261101
DTSTAMP:20260423T051828
CREATED:20250701T140531Z
LAST-MODIFIED:20250701T141140Z
UID:10003996-1792454400-1793491199@www.mynamaki.fi
SUMMARY:Mervi Keskitalon taidenäyttely lokakuun ajan pääkirjastossa
DESCRIPTION:
URL:https://www.mynamaki.fi/tapahtuma/mervi-keskitalon-taidenayttely-lokakuun-ajan-paakirjastossa/
LOCATION:Mynämäen pääkirjasto
ATTACH;FMTTYPE=image/jpeg:https://www.mynamaki.fi/wp-content/uploads/2025/07/Mervi-Keskitalo-lokakuu-2026-scaled.jpg
END:VEVENT
BEGIN:VEVENT
DTSTART;TZID=Europe/Helsinki:20261116T120000
DTEND;TZID=Europe/Helsinki:20261130T190000
DTSTAMP:20260423T051828
CREATED:20260127T062318Z
LAST-MODIFIED:20260127T062434Z
UID:10004193-1794830400-1796065200@www.mynamaki.fi
SUMMARY:Taidenäyttely
DESCRIPTION:Kuvataideyhdistys Vakku ry:n taidenäyttely: Varjosta valoon esillä Mynämäen kirjastossa marraskuun ajan. \nNäyttely on avoinna kirjaston aukioloaikoina.
URL:https://www.mynamaki.fi/tapahtuma/taidenayttely-16/
LOCATION:Mynämäen pääkirjasto
ATTACH;FMTTYPE=image/jpeg:https://www.mynamaki.fi/wp-content/uploads/2026/01/Joutsen-e1769495049695.jpg
ORGANIZER;CN="Myn%C3%A4m%C3%A4en kulttuuri- ja kirjastotoimi":MAILTO:viktoria.kulmala@mynamaki.fi
END:VEVENT
BEGIN:VEVENT
DTSTART;TZID=Europe/Helsinki:20261214T120000
DTEND;TZID=Europe/Helsinki:20261231T190000
DTSTAMP:20260423T051828
CREATED:20260127T063445Z
LAST-MODIFIED:20260127T063523Z
UID:10004194-1797249600-1798743600@www.mynamaki.fi
SUMMARY:Taidenäyttely
DESCRIPTION:Marika Haloilan taidenäyttely: Ystävyyden hiutaleita – itsetehdyt joulukortit kautta aikojen on esillä Mynämäen pääkirjastossa joulukuun ajan. \nNäyttely on avoinna kirjaston aukioloaikoina.
URL:https://www.mynamaki.fi/tapahtuma/taidenayttely-17/
LOCATION:Mynämäen pääkirjasto
ATTACH;FMTTYPE=image/jpeg:https://www.mynamaki.fi/wp-content/uploads/2026/01/Joulukorttinayttely-mainoskuva-kokonainen-e1769495674682.jpg
ORGANIZER;CN="Myn%C3%A4m%C3%A4en kulttuuri- ja kirjastotoimi":MAILTO:viktoria.kulmala@mynamaki.fi
END:VEVENT
END:VCALENDAR