BEGIN:VCALENDAR
VERSION:2.0
PRODID:-//Mynämäki - ECPv6.15.20//NONSGML v1.0//EN
CALSCALE:GREGORIAN
METHOD:PUBLISH
X-WR-CALNAME:Mynämäki
X-ORIGINAL-URL:https://www.mynamaki.fi
X-WR-CALDESC:Tapahtumat Mynämäki
REFRESH-INTERVAL;VALUE=DURATION:PT1H
X-Robots-Tag:noindex
X-PUBLISHED-TTL:PT1H
BEGIN:VTIMEZONE
TZID:Europe/Helsinki
BEGIN:DAYLIGHT
TZOFFSETFROM:+0200
TZOFFSETTO:+0300
TZNAME:EEST
DTSTART:20230326T010000
END:DAYLIGHT
BEGIN:STANDARD
TZOFFSETFROM:+0300
TZOFFSETTO:+0200
TZNAME:EET
DTSTART:20231029T010000
END:STANDARD
BEGIN:DAYLIGHT
TZOFFSETFROM:+0200
TZOFFSETTO:+0300
TZNAME:EEST
DTSTART:20240331T010000
END:DAYLIGHT
BEGIN:STANDARD
TZOFFSETFROM:+0300
TZOFFSETTO:+0200
TZNAME:EET
DTSTART:20241027T010000
END:STANDARD
BEGIN:DAYLIGHT
TZOFFSETFROM:+0200
TZOFFSETTO:+0300
TZNAME:EEST
DTSTART:20250330T010000
END:DAYLIGHT
BEGIN:STANDARD
TZOFFSETFROM:+0300
TZOFFSETTO:+0200
TZNAME:EET
DTSTART:20251026T010000
END:STANDARD
END:VTIMEZONE
BEGIN:VEVENT
DTSTART;TZID=Europe/Helsinki:20240108T070000
DTEND;TZID=Europe/Helsinki:20240202T070000
DTSTAMP:20260424T152742
CREATED:20240108T073042Z
LAST-MODIFIED:20240108T073042Z
UID:10003326-1704697200-1706857200@www.mynamaki.fi
SUMMARY:Lempin kintaat KAL
DESCRIPTION:Nyt käynnistyy KAL eli yhteisöneulonta\, jossa kudotaan ihanat käsineet\, jotka Lempi Palonen on neulonut Mynämäessä ennen vuotta 1929. Malli on Kansallismuseon kansallistieteellisestä kokoelmasta ja Marika Haloila on tehnyt meille neulontaohjeet niin\, että kintaat voidaan kutoa yhdessä. \nVoit nyt alkaa valmistautumaan varsinaiseen neulontaan hankkimalla tarvikkeet. Tarvitset kahta eri väristä Nalle-lankaa ja sukkapuikot.\n🧶Lanka: Novita Nalle\, esim. 50 g musta ja esim. 50 g vaalea.\n🧶Puikot: sukkapuikot 2\,5 mm tai käsialan mukaan (tarvitset kahdet sukkapuikot\, jos neulot molemmat kintaat saman aikaisesti) ja apupuikot\n🧶Neuletiheys: 10 cm = 31 kerrosta\, 30 silmukkaa \nOhjeet julkaistaan Wirmon Marttojen somessa seuraavina päivinä: 13.1.\, 17.1.\, 21.1.\, 25.1.\, 29.1. ja 2.2.2024.\nFB: @wirmonmartatry\nInstagram: @wirmonmartat \nHelmikuun alusta lähtien voit noutaa ohjeen kokonaisuudessaan joko yhteisötila Tuukista (Vehmaantie 111\, sovi aika) tai Mynämäen pääkirjastosta sen aukioloaikoina. \nLempin kintaat olivat luonnonvalkoisesta ja mustasta villalangasta neulotut. Muuten niitä on kuvailtu näin Suomen kansallismuseon sivuilla: ”Kintaiden suu on kaksinkertaiseksi taitettu ja neulottu pitsineuletta. Ranneke sileää neuletta\, jossa on pystyraidat. Varsi on yhteensä 9 cm pitkä. Muuten kintaat on neulottu kirjoneuleena. Kuvio on ruutupohjainen\, ja tekijän mukaan mallin nimi on ”hämähäkinverkko”. Kärkikavennukset on tehty kintaiden sivuilla ja kuvio jatkuu kärkeen asti. Peukalo on lisätty suoraan ja myös se on kuvioitu.” \nOrganisaatio: Suomen kansallismuseo\, Kansatieteelliset kokoelmat\nTunniste: K7199:42; 1527:173\nMitat: pituus: 28\,0 cm\, leveys\, suu: 10\,0 cm\nValmistus: valmistusaika ennen vuotta 1929\nTekniikka: käsityö\nTekniikka: käsityö_tekstiili/neulonta\nMateriaali: lanka/kirjoneule\nMateriaali: lanka/villa\nTekijä: Palonen\, Lempi\nKuva: Suomen kansallismuseo \nLue lisää:\nwww.finna.fi/Record/museovirasto.EB07FF80FE705C41AC2C4FDA2CFE690B?sid=2927690658&imgid=1 \nLisätietoja:\n044 7172 648/Katja
URL:https://www.mynamaki.fi/tapahtuma/lempin-kintaat-kal/
LOCATION:Mynämäki
ATTACH;FMTTYPE=image/jpeg:https://www.mynamaki.fi/wp-content/uploads/2024/01/IMG-20231229-WA0013-1.jpg
END:VEVENT
END:VCALENDAR