BEGIN:VCALENDAR
VERSION:2.0
PRODID:-//Mynämäki - ECPv6.15.20//NONSGML v1.0//EN
CALSCALE:GREGORIAN
METHOD:PUBLISH
X-WR-CALNAME:Mynämäki
X-ORIGINAL-URL:https://www.mynamaki.fi
X-WR-CALDESC:Tapahtumat Mynämäki
REFRESH-INTERVAL;VALUE=DURATION:PT1H
X-Robots-Tag:noindex
X-PUBLISHED-TTL:PT1H
BEGIN:VTIMEZONE
TZID:Europe/Helsinki
BEGIN:DAYLIGHT
TZOFFSETFROM:+0200
TZOFFSETTO:+0300
TZNAME:EEST
DTSTART:20230326T010000
END:DAYLIGHT
BEGIN:STANDARD
TZOFFSETFROM:+0300
TZOFFSETTO:+0200
TZNAME:EET
DTSTART:20231029T010000
END:STANDARD
BEGIN:DAYLIGHT
TZOFFSETFROM:+0200
TZOFFSETTO:+0300
TZNAME:EEST
DTSTART:20240331T010000
END:DAYLIGHT
BEGIN:STANDARD
TZOFFSETFROM:+0300
TZOFFSETTO:+0200
TZNAME:EET
DTSTART:20241027T010000
END:STANDARD
BEGIN:DAYLIGHT
TZOFFSETFROM:+0200
TZOFFSETTO:+0300
TZNAME:EEST
DTSTART:20250330T010000
END:DAYLIGHT
BEGIN:STANDARD
TZOFFSETFROM:+0300
TZOFFSETTO:+0200
TZNAME:EET
DTSTART:20251026T010000
END:STANDARD
END:VTIMEZONE
BEGIN:VEVENT
DTSTART;TZID=Europe/Helsinki:20240504T110000
DTEND;TZID=Europe/Helsinki:20240504T140000
DTSTAMP:20260422T071632
CREATED:20240423T052006Z
LAST-MODIFIED:20240423T052006Z
UID:10003478-1714820400-1714831200@www.mynamaki.fi
SUMMARY:Päivä paloasemalla -tapahtuma Mynämäen Karjalassa
DESCRIPTION:Koe paloaseman syke Päivä Paloasemalla® -kevätpilotissamme toukokuussa! \nTänä vuonna päivää päästään viettämään myös 4.5. kevätpilotin merkeissä. Kevätpilottia on järjestämässä vain 56 sopimuspalokuntaa ympäri Suomea. Karjalan VPK järjestää koko perheen tapahtuman lauantaina 4.5.2024 klo 11 – 14 Karjalan maamiesseurantalolla (Karjalantie 745).\nTervetuloa vierailemaan koko perheen voimin!
URL:https://www.mynamaki.fi/tapahtuma/paiva-paloasemalla-tapahtuma-mynamaen-karjalassa/
LOCATION:Karjalan maamiesseurantalo\, Karjalantie 745\, Mynämäki
ATTACH;FMTTYPE=image/png:https://www.mynamaki.fi/wp-content/uploads/2024/04/Screenshot_20240418-2010422.png
GEO:60.7733188;22.1045583
X-APPLE-STRUCTURED-LOCATION;VALUE=URI;X-ADDRESS=Karjalan maamiesseurantalo Karjalantie 745 Mynämäki;X-APPLE-RADIUS=500;X-TITLE=Karjalantie 745:geo:22.1045583,60.7733188
END:VEVENT
END:VCALENDAR