BEGIN:VCALENDAR
VERSION:2.0
PRODID:-//Mynämäki - ECPv6.15.20//NONSGML v1.0//EN
CALSCALE:GREGORIAN
METHOD:PUBLISH
X-ORIGINAL-URL:https://www.mynamaki.fi
X-WR-CALDESC:Tapahtumat Mynämäki
REFRESH-INTERVAL;VALUE=DURATION:PT1H
X-Robots-Tag:noindex
X-PUBLISHED-TTL:PT1H
BEGIN:VTIMEZONE
TZID:Europe/Helsinki
BEGIN:DAYLIGHT
TZOFFSETFROM:+0200
TZOFFSETTO:+0300
TZNAME:EEST
DTSTART:20230326T010000
END:DAYLIGHT
BEGIN:STANDARD
TZOFFSETFROM:+0300
TZOFFSETTO:+0200
TZNAME:EET
DTSTART:20231029T010000
END:STANDARD
BEGIN:DAYLIGHT
TZOFFSETFROM:+0200
TZOFFSETTO:+0300
TZNAME:EEST
DTSTART:20240331T010000
END:DAYLIGHT
BEGIN:STANDARD
TZOFFSETFROM:+0300
TZOFFSETTO:+0200
TZNAME:EET
DTSTART:20241027T010000
END:STANDARD
BEGIN:DAYLIGHT
TZOFFSETFROM:+0200
TZOFFSETTO:+0300
TZNAME:EEST
DTSTART:20250330T010000
END:DAYLIGHT
BEGIN:STANDARD
TZOFFSETFROM:+0300
TZOFFSETTO:+0200
TZNAME:EET
DTSTART:20251026T010000
END:STANDARD
END:VTIMEZONE
BEGIN:VEVENT
DTSTART;TZID=Europe/Helsinki:20240610T160000
DTEND;TZID=Europe/Helsinki:20240610T190000
DTSTAMP:20260422T052632
CREATED:20240415T080214Z
LAST-MODIFIED:20240415T080214Z
UID:10003466-1718035200-1718046000@www.mynamaki.fi
SUMMARY:Pop Up -nuokkarit kesäkuussa
DESCRIPTION:• Tori (Virastotie 4)\, ma 10.6. klo 16–19 (pihapelejä ja mehubaari) \nTuu mukaan! Ei tarvitse ilmoittautua! Lisätietoa: Katja/nuorisotoimi\, p. 044 974 2918
URL:https://www.mynamaki.fi/tapahtuma/pop-up-nuokkarit-kesakuussa/
LOCATION:Mynämäen tori
ATTACH;FMTTYPE=image/jpeg:https://www.mynamaki.fi/wp-content/uploads/2024/04/Pop-Up-nuokkarit-2024.jpg
END:VEVENT
BEGIN:VEVENT
DTSTART;TZID=Europe/Helsinki:20240613T090000
DTEND;TZID=Europe/Helsinki:20240613T141500
DTSTAMP:20260422T052632
CREATED:20240415T075954Z
LAST-MODIFIED:20240415T080012Z
UID:10003465-1718269200-1718288100@www.mynamaki.fi
SUMMARY:To 13.6.  Retki Kupittaan maauimalaan
DESCRIPTION:Lähde mukaan retkelle torstaina 13.6.! 12-vuotiaat uimataitoiset (uimataito yhtäjaksoisesti 200 m) saavat lähteä yksin huoltajan luvalla. Alle 12-vuotiaat ja uimataidottomat vain täysi-ikäisen uimakaverin kanssa.\nMaksuton linja-autokuljetus. Omakustanteinen sisäänpääsy (aikuinen 5\,50 €\, 4–16-vuotiaat 3 €\, alle 4-vuotiaat ilmaiseksi.) Omat eväät mukaan.\nPaikalla myös kioski. \nLähtö Mynämäen linja-autoasemalta klo 9.00 ja Mietoisten seurakuntakodilta klo 9.15. Takaisin lähdemme klo 13.30.\nIlmoittaudu retkelle mukaan -> https://www.mynamaki.fi/ilmoittaudu/ \nLisätietoa: Katja/nuorisotoimi\, p. 044 974 2918
URL:https://www.mynamaki.fi/tapahtuma/to-13-6-retki-kupittaan-maauimalaan/
ATTACH;FMTTYPE=image/jpeg:https://www.mynamaki.fi/wp-content/uploads/2024/04/Welcome-Summer-Facebook-Post-Plumeria-Swimming-Pool-Yellow-Letters.jpg
ORGANIZER;CN="Myn%C3%A4m%C3%A4en kunta liikunta- ja nuorisotoimi":MAILTO:kunta@mynamaki.fi
END:VEVENT
BEGIN:VEVENT
DTSTART;TZID=Europe/Helsinki:20240617T160000
DTEND;TZID=Europe/Helsinki:20240617T190000
DTSTAMP:20260422T052632
CREATED:20240415T080407Z
LAST-MODIFIED:20240415T080407Z
UID:10003468-1718640000-1718650800@www.mynamaki.fi
SUMMARY:Pop Up -nuokkarit kesäkuussa
DESCRIPTION:Saarenranta (Saarenrantatie)\, ma 17.6. klo 16–19 (pihapelit\, sup-laudat\, grillaus). \nTuu mukaan! Ei tarvitse ilmoittautua! Lisätietoa: Katja/nuorisotoimi\, p. 044 974 2918
URL:https://www.mynamaki.fi/tapahtuma/pop-up-nuokkarit-kesakuussa-3/
ATTACH;FMTTYPE=image/jpeg:https://www.mynamaki.fi/wp-content/uploads/2024/04/Pop-Up-nuokkarit-2024-2.jpg
END:VEVENT
BEGIN:VEVENT
DTSTART;TZID=Europe/Helsinki:20240619T160000
DTEND;TZID=Europe/Helsinki:20240619T190000
DTSTAMP:20260422T052632
CREATED:20240415T080450Z
LAST-MODIFIED:20240415T080450Z
UID:10003469-1718812800-1718823600@www.mynamaki.fi
SUMMARY:Pop Up -nuokkarit kesäkuussa
DESCRIPTION:Kivijärvi (Tekovahantie 10)\, ke 19.6. klo 16–19 (sup-laudat\, grillaus). \nTuu mukaan! Ei tarvitse ilmoittautua! Lisätietoa: Katja/nuorisotoimi\, p. 044 974 2918
URL:https://www.mynamaki.fi/tapahtuma/pop-up-nuokkarit-kesakuussa-4/
ATTACH;FMTTYPE=image/jpeg:https://www.mynamaki.fi/wp-content/uploads/2024/04/Pop-Up-nuokkarit-2024-3.jpg
END:VEVENT
END:VCALENDAR