BEGIN:VCALENDAR
VERSION:2.0
PRODID:-//Mynämäki - ECPv6.15.20//NONSGML v1.0//EN
CALSCALE:GREGORIAN
METHOD:PUBLISH
X-ORIGINAL-URL:https://www.mynamaki.fi
X-WR-CALDESC:Tapahtumat Mynämäki
REFRESH-INTERVAL;VALUE=DURATION:PT1H
X-Robots-Tag:noindex
X-PUBLISHED-TTL:PT1H
BEGIN:VTIMEZONE
TZID:Europe/Helsinki
BEGIN:DAYLIGHT
TZOFFSETFROM:+0200
TZOFFSETTO:+0300
TZNAME:EEST
DTSTART:20240331T010000
END:DAYLIGHT
BEGIN:STANDARD
TZOFFSETFROM:+0300
TZOFFSETTO:+0200
TZNAME:EET
DTSTART:20241027T010000
END:STANDARD
BEGIN:DAYLIGHT
TZOFFSETFROM:+0200
TZOFFSETTO:+0300
TZNAME:EEST
DTSTART:20250330T010000
END:DAYLIGHT
BEGIN:STANDARD
TZOFFSETFROM:+0300
TZOFFSETTO:+0200
TZNAME:EET
DTSTART:20251026T010000
END:STANDARD
BEGIN:DAYLIGHT
TZOFFSETFROM:+0200
TZOFFSETTO:+0300
TZNAME:EEST
DTSTART:20260329T010000
END:DAYLIGHT
BEGIN:STANDARD
TZOFFSETFROM:+0300
TZOFFSETTO:+0200
TZNAME:EET
DTSTART:20261025T010000
END:STANDARD
END:VTIMEZONE
BEGIN:VEVENT
DTSTART;TZID=Europe/Helsinki:20250222T110000
DTEND;TZID=Europe/Helsinki:20250222T173000
DTSTAMP:20260421T151920
CREATED:20250210T085349Z
LAST-MODIFIED:20250210T085349Z
UID:10003863-1740222000-1740245400@www.mynamaki.fi
SUMMARY:Mynämäki UKICONiin
DESCRIPTION:Mynämäen nuorisotoimi järjestää kuljetuksen Ukicon-cosplay-tapahtumaan 22.2.2025.\nLähtö klo 11.00 Mynämäen linja-autoasemalta ja paluumatka klo 17.30. Kuljetuksen hinta 10 €/hlö. \nAlle 12-vuotiaat huoltajan kanssa. \nIlmoittautumisen viimeinen päivä 19.2.\nIlmoittautuminen: https://link.webropolsurveys.com/EP/49D773ED401F09CA \nUudenkaupungin cosplay-tapahtuma Ukicon järjestetään toista kertaa la 22.2.2025 klo 12 – 17 Kulttuurikeskus Crusellissa. Tapahtumaan on vapaa pääsy ja toimintapisteisiin osallistuminen on ilmaista. Ohjelmassa on mm. cosplay-kilpailu\, askartelua ja karaoke. \nTapahtuman teema on Valoa ja varjoja.
URL:https://www.mynamaki.fi/tapahtuma/mynamaki-ukiconiin/
ATTACH;FMTTYPE=image/png:https://www.mynamaki.fi/wp-content/uploads/2025/02/Cosplay-2.png
ORGANIZER;CN="Myn%C3%A4m%C3%A4en kunta liikunta- ja nuorisotoimi":MAILTO:kunta@mynamaki.fi
END:VEVENT
END:VCALENDAR