BEGIN:VCALENDAR
VERSION:2.0
PRODID:-//Mynämäki - ECPv6.15.20//NONSGML v1.0//EN
CALSCALE:GREGORIAN
METHOD:PUBLISH
X-WR-CALNAME:Mynämäki
X-ORIGINAL-URL:https://www.mynamaki.fi
X-WR-CALDESC:Tapahtumat Mynämäki
REFRESH-INTERVAL;VALUE=DURATION:PT1H
X-Robots-Tag:noindex
X-PUBLISHED-TTL:PT1H
BEGIN:VTIMEZONE
TZID:Europe/Helsinki
BEGIN:DAYLIGHT
TZOFFSETFROM:+0200
TZOFFSETTO:+0300
TZNAME:EEST
DTSTART:20240331T010000
END:DAYLIGHT
BEGIN:STANDARD
TZOFFSETFROM:+0300
TZOFFSETTO:+0200
TZNAME:EET
DTSTART:20241027T010000
END:STANDARD
BEGIN:DAYLIGHT
TZOFFSETFROM:+0200
TZOFFSETTO:+0300
TZNAME:EEST
DTSTART:20250330T010000
END:DAYLIGHT
BEGIN:STANDARD
TZOFFSETFROM:+0300
TZOFFSETTO:+0200
TZNAME:EET
DTSTART:20251026T010000
END:STANDARD
BEGIN:DAYLIGHT
TZOFFSETFROM:+0200
TZOFFSETTO:+0300
TZNAME:EEST
DTSTART:20260329T010000
END:DAYLIGHT
BEGIN:STANDARD
TZOFFSETFROM:+0300
TZOFFSETTO:+0200
TZNAME:EET
DTSTART:20261025T010000
END:STANDARD
END:VTIMEZONE
BEGIN:VEVENT
DTSTART;TZID=Europe/Helsinki:20250305T170000
DTEND;TZID=Europe/Helsinki:20250305T183000
DTSTAMP:20260421T133909
CREATED:20250225T062034Z
LAST-MODIFIED:20250225T062034Z
UID:10003871-1741194000-1741199400@www.mynamaki.fi
SUMMARY:Yhdessä lasten ja nuorten mielenterveyden puolesta 5.3.2025
DESCRIPTION:Oletko varsinaissuomalainen? Kannatko huolta alueesi lasten ja nuorten mielenterveydestä? Haluaisitko tietää lisää siitä\, miten ongelmia ehkäistään ja perheitä tuetaan Varsinais-Suomen hyvinvointialueella? Osallistu webinaariin ke 5.3. klo 17.00-18.30! \nMieli ry:n\, Varhan\, Itlan ja Turun amk:n yhteisessä tilaisuudessa tarjolla ajankohtaisia puheenvuoroja akuuttiakin akuutimmasta aiheesta. Ilmoittautumiset: https://mieli.fi/tapahtuma/yhdessa-lasten-ja-nuorten-mielenterveyden-puolesta-5-3-2025/
URL:https://www.mynamaki.fi/tapahtuma/yhdessa-lasten-ja-nuorten-mielenterveyden-puolesta-5-3-2025/
ATTACH;FMTTYPE=image/jpeg:https://www.mynamaki.fi/wp-content/uploads/2025/02/Nuoria-portaissa-810x540-1.jpg
END:VEVENT
END:VCALENDAR